BEGIN:VCALENDAR
VERSION:2.0
PRODID:-//Chesapeake Health Care - ECPv6.15.15//NONSGML v1.0//EN
CALSCALE:GREGORIAN
METHOD:PUBLISH
X-WR-CALNAME:Chesapeake Health Care
X-ORIGINAL-URL:https://chesapeakehc.org
X-WR-CALDESC:Events for Chesapeake Health Care
REFRESH-INTERVAL;VALUE=DURATION:PT1H
X-Robots-Tag:noindex
X-PUBLISHED-TTL:PT1H
BEGIN:VTIMEZONE
TZID:America/New_York
BEGIN:DAYLIGHT
TZOFFSETFROM:-0500
TZOFFSETTO:-0400
TZNAME:EDT
DTSTART:20250309T070000
END:DAYLIGHT
BEGIN:STANDARD
TZOFFSETFROM:-0400
TZOFFSETTO:-0500
TZNAME:EST
DTSTART:20251102T060000
END:STANDARD
BEGIN:DAYLIGHT
TZOFFSETFROM:-0500
TZOFFSETTO:-0400
TZNAME:EDT
DTSTART:20260308T070000
END:DAYLIGHT
BEGIN:STANDARD
TZOFFSETFROM:-0400
TZOFFSETTO:-0500
TZNAME:EST
DTSTART:20261101T060000
END:STANDARD
BEGIN:DAYLIGHT
TZOFFSETFROM:-0500
TZOFFSETTO:-0400
TZNAME:EDT
DTSTART:20270314T070000
END:DAYLIGHT
BEGIN:STANDARD
TZOFFSETFROM:-0400
TZOFFSETTO:-0500
TZNAME:EST
DTSTART:20271107T060000
END:STANDARD
END:VTIMEZONE
BEGIN:VEVENT
DTSTART;TZID=America/New_York:20260523T090000
DTEND;TZID=America/New_York:20260523T150000
DTSTAMP:20260421T102756
CREATED:20260217T160017Z
LAST-MODIFIED:20260217T160017Z
UID:10000085-1779526800-1779548400@chesapeakehc.org
SUMMARY:In-person Medicaid Enrollment Assistance
DESCRIPTION:Maryland Medicaid and the Maryland Children’s Health Program (MCHP) require regular renewals to keep your coverage active. If you received mail\, email\, or texts about renewing your benefits — or if your situation has changed — now is the time to act. \nJoin us for FREE\, in-person help from Chesapeake Health Care’s Certified Application Counselors\, who can assist you with: \n\nMedicaid and MCHP renewals\nNew Medicaid applications\nUpdating household or income information\nExploring health insurance options through the Maryland Health Connection if you no longer qualify for Medicaid\nHelp finding plans and financial assistance\, if eligible\n\nPlease bring the following items with you: \n\nBirthdates for each household member applying for coverage\nSocial Security Cards or Numbers for household members applying\nOne month of proof of income for all household members (pay stubs\, 2025 W-2s\, or previous year tax returns)\nCitizenship or immigration information for anyone applying\nA photo ID and a valid email address\nInformation about any employer-sponsored health insurance available to your household\n\nWalk-ins welcome. Appointments may be limited.\nEnrollment assistance is free and confidential.
URL:https://chesapeakehc.org/event/in-person-medicaid-enrollment-assistance-16/
LOCATION:Chesapeake Health Care Conference Center\, 1647 Woodbrooke Drive\, Salisbury\, MD\, 21804\, United States
CATEGORIES:Insurance application,Medicaid Enrollment
ATTACH;FMTTYPE=image/png:https://chesapeakehc.org/wp-content/uploads/2026/02/Medicaid-5-23-2026.png
END:VEVENT
BEGIN:VEVENT
DTSTART;TZID=America/New_York:20260613T090000
DTEND;TZID=America/New_York:20260613T150000
DTSTAMP:20260421T102756
CREATED:20260217T160254Z
LAST-MODIFIED:20260217T160254Z
UID:10000086-1781341200-1781362800@chesapeakehc.org
SUMMARY:In-person Medicaid Enrollment Assistance
DESCRIPTION:Maryland Medicaid and the Maryland Children’s Health Program (MCHP) require regular renewals to keep your coverage active. If you received mail\, email\, or texts about renewing your benefits — or if your situation has changed — now is the time to act. \nJoin us for FREE\, in-person help from Chesapeake Health Care’s Certified Application Counselors\, who can assist you with: \n\nMedicaid and MCHP renewals\nNew Medicaid applications\nUpdating household or income information\nExploring health insurance options through the Maryland Health Connection if you no longer qualify for Medicaid\nHelp finding plans and financial assistance\, if eligible\n\nPlease bring the following items with you: \n\nBirthdates for each household member applying for coverage\nSocial Security Cards or Numbers for household members applying\nOne month of proof of income for all household members (pay stubs\, 2025 W-2s\, or previous year tax returns)\nCitizenship or immigration information for anyone applying\nA photo ID and a valid email address\nInformation about any employer-sponsored health insurance available to your household\n\nWalk-ins welcome. Appointments may be limited.\nEnrollment assistance is free and confidential.
URL:https://chesapeakehc.org/event/in-person-medicaid-enrollment-assistance-17/
LOCATION:Chesapeake Health Care Conference Center\, 1647 Woodbrooke Drive\, Salisbury\, MD\, 21804\, United States
CATEGORIES:Insurance application,Medicaid Enrollment
ATTACH;FMTTYPE=image/png:https://chesapeakehc.org/wp-content/uploads/2026/02/Medicaid-6-13-2026.png
END:VEVENT
END:VCALENDAR